BEGIN:VCALENDAR
VERSION:2.0
PRODID:-//Colorado Springs Education Association - ECPv5.16.3.1//NONSGML v1.0//EN
CALSCALE:GREGORIAN
METHOD:PUBLISH
X-WR-CALNAME:Colorado Springs Education Association
X-ORIGINAL-URL:https://www.cseateacher.org
X-WR-CALDESC:Events for Colorado Springs Education Association
BEGIN:VTIMEZONE
TZID:America/Denver
BEGIN:DAYLIGHT
TZOFFSETFROM:-0700
TZOFFSETTO:-0600
TZNAME:MDT
DTSTART:20210314T090000
END:DAYLIGHT
BEGIN:STANDARD
TZOFFSETFROM:-0600
TZOFFSETTO:-0700
TZNAME:MST
DTSTART:20211107T080000
END:STANDARD
END:VTIMEZONE
BEGIN:VEVENT
DTSTART;VALUE=DATE:20210705
DTEND;VALUE=DATE:20210717
DTSTAMP:20260422T190209
CREATED:20210616T203318Z
LAST-MODIFIED:20210616T203318Z
UID:3949-1625443200-1626479999@www.cseateacher.org
SUMMARY:Summer Office Closure
DESCRIPTION:
URL:https://www.cseateacher.org/event/summer-office-closure/
LOCATION:CSEA\, 2520 North Tejon St\, Colorado Springs\, CO\, 80907\, United States
CATEGORIES:Office Closure
END:VEVENT
END:VCALENDAR