BEGIN:VCALENDAR
VERSION:2.0
PRODID:-//Colorado Springs Education Association - ECPv5.16.3.1//NONSGML v1.0//EN
CALSCALE:GREGORIAN
METHOD:PUBLISH
X-WR-CALNAME:Colorado Springs Education Association
X-ORIGINAL-URL:https://www.cseateacher.org
X-WR-CALDESC:Events for Colorado Springs Education Association
BEGIN:VTIMEZONE
TZID:America/Denver
BEGIN:DAYLIGHT
TZOFFSETFROM:-0700
TZOFFSETTO:-0600
TZNAME:MDT
DTSTART:20190310T090000
END:DAYLIGHT
BEGIN:STANDARD
TZOFFSETFROM:-0600
TZOFFSETTO:-0700
TZNAME:MST
DTSTART:20191103T080000
END:STANDARD
END:VTIMEZONE
BEGIN:VEVENT
DTSTART;TZID=America/Denver:20190807T090000
DTEND;TZID=America/Denver:20190807T113000
DTSTAMP:20260424T083200
CREATED:20190524T221709Z
LAST-MODIFIED:20190524T221709Z
UID:1874-1565168400-1565177400@www.cseateacher.org
SUMMARY:AR Kickoff
DESCRIPTION:
URL:https://www.cseateacher.org/event/ar-kickoff/
LOCATION:IBEW Hall\, 2150 Naegele Road\, Colorado Springs\, CO
END:VEVENT
END:VCALENDAR