BEGIN:VCALENDAR
VERSION:2.0
PRODID:-//Colorado Springs Education Association - ECPv5.16.3.1//NONSGML v1.0//EN
CALSCALE:GREGORIAN
METHOD:PUBLISH
X-WR-CALNAME:Colorado Springs Education Association
X-ORIGINAL-URL:https://www.cseateacher.org
X-WR-CALDESC:Events for Colorado Springs Education Association
BEGIN:VTIMEZONE
TZID:America/Denver
BEGIN:DAYLIGHT
TZOFFSETFROM:-0700
TZOFFSETTO:-0600
TZNAME:MDT
DTSTART:20190310T090000
END:DAYLIGHT
BEGIN:STANDARD
TZOFFSETFROM:-0600
TZOFFSETTO:-0700
TZNAME:MST
DTSTART:20191103T080000
END:STANDARD
END:VTIMEZONE
BEGIN:VEVENT
DTSTART;TZID=America/Denver:20190208T080000
DTEND;TZID=America/Denver:20190212T170000
DTSTAMP:20260424T173034
CREATED:20190107T235421Z
LAST-MODIFIED:20190107T235421Z
UID:1595-1549612800-1549990800@www.cseateacher.org
SUMMARY:CEA Delegate Assembly Elections Conducted
DESCRIPTION:
URL:https://www.cseateacher.org/event/cea-delegate-assembly-elections-conducted/
END:VEVENT
END:VCALENDAR