BEGIN:VCALENDAR
VERSION:2.0
PRODID:-//Colorado Springs Education Association - ECPv5.16.3.1//NONSGML v1.0//EN
CALSCALE:GREGORIAN
METHOD:PUBLISH
X-WR-CALNAME:Colorado Springs Education Association
X-ORIGINAL-URL:https://www.cseateacher.org
X-WR-CALDESC:Events for Colorado Springs Education Association
BEGIN:VTIMEZONE
TZID:America/Denver
BEGIN:DAYLIGHT
TZOFFSETFROM:-0700
TZOFFSETTO:-0600
TZNAME:MDT
DTSTART:20180311T090000
END:DAYLIGHT
BEGIN:STANDARD
TZOFFSETFROM:-0600
TZOFFSETTO:-0700
TZNAME:MST
DTSTART:20181104T080000
END:STANDARD
END:VTIMEZONE
BEGIN:VEVENT
DTSTART;TZID=America/Denver:20181213T160000
DTEND;TZID=America/Denver:20181213T170000
DTSTAMP:20260424T201416
CREATED:20181212T172842Z
LAST-MODIFIED:20181212T172842Z
UID:1563-1544716800-1544720400@www.cseateacher.org
SUMMARY:CSEA/D11 Exchange Of Issues
DESCRIPTION:
URL:https://www.cseateacher.org/event/csea-d11-exchange-of-issues/
LOCATION:District 11 Administration Building\, 1115 N. El Paso St.\, Colorado Springs\, 80903
END:VEVENT
END:VCALENDAR