BEGIN:VCALENDAR
VERSION:2.0
PRODID:-//Colorado Springs Education Association - ECPv5.16.3.1//NONSGML v1.0//EN
CALSCALE:GREGORIAN
METHOD:PUBLISH
X-WR-CALNAME:Colorado Springs Education Association
X-ORIGINAL-URL:https://www.cseateacher.org
X-WR-CALDESC:Events for Colorado Springs Education Association
BEGIN:VTIMEZONE
TZID:America/Denver
BEGIN:DAYLIGHT
TZOFFSETFROM:-0700
TZOFFSETTO:-0600
TZNAME:MDT
DTSTART:20180311T090000
END:DAYLIGHT
BEGIN:STANDARD
TZOFFSETFROM:-0600
TZOFFSETTO:-0700
TZNAME:MST
DTSTART:20181104T080000
END:STANDARD
END:VTIMEZONE
BEGIN:VEVENT
DTSTART;TZID=America/Denver:20181119T080000
DTEND;TZID=America/Denver:20181123T170000
DTSTAMP:20260424T214250
CREATED:20180828T211419Z
LAST-MODIFIED:20180828T211419Z
UID:1377-1542614400-1542992400@www.cseateacher.org
SUMMARY:CSEA Closed - Thanksgiving
DESCRIPTION:
URL:https://www.cseateacher.org/event/csea-closed-thanksgiving/
CATEGORIES:Office Closure
END:VEVENT
END:VCALENDAR