BEGIN:VCALENDAR
VERSION:2.0
PRODID:-//Colorado Springs Education Association - ECPv5.16.3.1//NONSGML v1.0//EN
CALSCALE:GREGORIAN
METHOD:PUBLISH
X-WR-CALNAME:Colorado Springs Education Association
X-ORIGINAL-URL:https://www.cseateacher.org
X-WR-CALDESC:Events for Colorado Springs Education Association
BEGIN:VTIMEZONE
TZID:America/Denver
BEGIN:DAYLIGHT
TZOFFSETFROM:-0700
TZOFFSETTO:-0600
TZNAME:MDT
DTSTART:20190310T090000
END:DAYLIGHT
BEGIN:STANDARD
TZOFFSETFROM:-0600
TZOFFSETTO:-0700
TZNAME:MST
DTSTART:20191103T080000
END:STANDARD
END:VTIMEZONE
BEGIN:VEVENT
DTSTART;TZID=America/Denver:20190415T163000
DTEND;TZID=America/Denver:20190415T173000
DTSTAMP:20260424T143046
CREATED:20190411T183454Z
LAST-MODIFIED:20190411T183507Z
UID:1796-1555345800-1555349400@www.cseateacher.org
SUMMARY:Social Committee Meeting
DESCRIPTION:Social Committee Meeting
URL:https://www.cseateacher.org/event/social-committee-meeting/
LOCATION:CSEA\, 2520 North Tejon St\, Colorado Springs\, CO\, 80907\, United States
END:VEVENT
END:VCALENDAR