BEGIN:VCALENDAR
VERSION:2.0
PRODID:-//Colorado Springs Education Association - ECPv5.16.3.1//NONSGML v1.0//EN
CALSCALE:GREGORIAN
METHOD:PUBLISH
X-WR-CALNAME:Colorado Springs Education Association
X-ORIGINAL-URL:https://www.cseateacher.org
X-WR-CALDESC:Events for Colorado Springs Education Association
BEGIN:VTIMEZONE
TZID:America/Denver
BEGIN:DAYLIGHT
TZOFFSETFROM:-0700
TZOFFSETTO:-0600
TZNAME:MDT
DTSTART:20200308T090000
END:DAYLIGHT
BEGIN:STANDARD
TZOFFSETFROM:-0600
TZOFFSETTO:-0700
TZNAME:MST
DTSTART:20201101T080000
END:STANDARD
END:VTIMEZONE
BEGIN:VEVENT
DTSTART;TZID=America/Denver:20201210T160000
DTEND;TZID=America/Denver:20201210T170000
DTSTAMP:20260422T000221
CREATED:20201209T193157Z
LAST-MODIFIED:20201209T193157Z
UID:3482-1607616000-1607619600@www.cseateacher.org
SUMMARY:Exchange of Issues:  Interest Based Bargaining (contract negotiations)
DESCRIPTION:CSEA and representatives of the Board of Education exchange the issues they will bring to the table for negotiations this year.  See the Union Pulse for the invitation link to attend. \nExchange of Issues:  Interest Based Bargaining (contract negotiations)
URL:https://www.cseateacher.org/event/exchange-of-issues-interest-based-bargaining-contract-negotiations/
LOCATION:Virtual
END:VEVENT
END:VCALENDAR