BEGIN:VCALENDAR
VERSION:2.0
PRODID:-//Colorado Springs Education Association - ECPv5.16.3.1//NONSGML v1.0//EN
CALSCALE:GREGORIAN
METHOD:PUBLISH
X-WR-CALNAME:Colorado Springs Education Association
X-ORIGINAL-URL:https://www.cseateacher.org
X-WR-CALDESC:Events for Colorado Springs Education Association
BEGIN:VTIMEZONE
TZID:America/Denver
BEGIN:DAYLIGHT
TZOFFSETFROM:-0700
TZOFFSETTO:-0600
TZNAME:MDT
DTSTART:20190310T090000
END:DAYLIGHT
BEGIN:STANDARD
TZOFFSETFROM:-0600
TZOFFSETTO:-0700
TZNAME:MST
DTSTART:20191103T080000
END:STANDARD
END:VTIMEZONE
BEGIN:VEVENT
DTSTART;TZID=America/Denver:20190423T130000
DTEND;TZID=America/Denver:20190423T170000
DTSTAMP:20260424T160146
CREATED:20190109T181715Z
LAST-MODIFIED:20190109T181715Z
UID:1628-1556024400-1556038800@www.cseateacher.org
SUMMARY:CSEA/D11 Interest Based Bargaining
DESCRIPTION:CSEA/D11 Interest Based Bargaining
URL:https://www.cseateacher.org/event/csea-d11-interest-based-bargaining-7/
LOCATION:Room 250\, Tesla Educational Center/International Circle\, 2560 International Circle\, Colorado Springs\, CO
END:VEVENT
END:VCALENDAR