BEGIN:VCALENDAR
VERSION:2.0
PRODID:-//Colorado Springs Education Association - ECPv5.16.3.1//NONSGML v1.0//EN
CALSCALE:GREGORIAN
METHOD:PUBLISH
X-WR-CALNAME:Colorado Springs Education Association
X-ORIGINAL-URL:https://www.cseateacher.org
X-WR-CALDESC:Events for Colorado Springs Education Association
BEGIN:VTIMEZONE
TZID:America/Denver
BEGIN:DAYLIGHT
TZOFFSETFROM:-0700
TZOFFSETTO:-0600
TZNAME:MDT
DTSTART:20220313T090000
END:DAYLIGHT
BEGIN:STANDARD
TZOFFSETFROM:-0600
TZOFFSETTO:-0700
TZNAME:MST
DTSTART:20221106T080000
END:STANDARD
END:VTIMEZONE
BEGIN:VEVENT
DTSTART;TZID=America/Denver:20220315T163000
DTEND;TZID=America/Denver:20220315T183000
DTSTAMP:20260419T084100
CREATED:20210616T174142Z
LAST-MODIFIED:20210616T181441Z
UID:3909-1647361800-1647369000@www.cseateacher.org
SUMMARY:CSEA Board of Directors Meeting
DESCRIPTION:CSEA Board of Directors Meeting
URL:https://www.cseateacher.org/event/csea-board-of-directors-meeting-64/
LOCATION:CSEA\, 2520 North Tejon St\, Colorado Springs\, CO\, 80907\, United States
CATEGORIES:Board of Directors Meeting
END:VEVENT
END:VCALENDAR