BEGIN:VCALENDAR
VERSION:2.0
PRODID:-//Colorado Springs Education Association - ECPv5.16.3.1//NONSGML v1.0//EN
CALSCALE:GREGORIAN
METHOD:PUBLISH
X-WR-CALNAME:Colorado Springs Education Association
X-ORIGINAL-URL:https://www.cseateacher.org
X-WR-CALDESC:Events for Colorado Springs Education Association
BEGIN:VTIMEZONE
TZID:America/Denver
BEGIN:DAYLIGHT
TZOFFSETFROM:-0700
TZOFFSETTO:-0600
TZNAME:MDT
DTSTART:20200308T090000
END:DAYLIGHT
BEGIN:STANDARD
TZOFFSETFROM:-0600
TZOFFSETTO:-0700
TZNAME:MST
DTSTART:20201101T080000
END:STANDARD
END:VTIMEZONE
BEGIN:VEVENT
DTSTART;TZID=America/Denver:20201117T163000
DTEND;TZID=America/Denver:20201117T180000
DTSTAMP:20260422T054013
CREATED:20200702T204930Z
LAST-MODIFIED:20200702T204939Z
UID:3009-1605630600-1605636000@www.cseateacher.org
SUMMARY:CSEA Board of Directors Meeting
DESCRIPTION:CSEA Board of Directors Meeting
URL:https://www.cseateacher.org/event/csea-board-of-directors-meeting-35/
LOCATION:CSEA\, 2520 N. Tejon St.\, Colorado Springs\, CO\, 80907
END:VEVENT
END:VCALENDAR