BEGIN:VCALENDAR
VERSION:2.0
PRODID:-//Colorado Springs Education Association - ECPv5.16.3.1//NONSGML v1.0//EN
CALSCALE:GREGORIAN
METHOD:PUBLISH
X-WR-CALNAME:Colorado Springs Education Association
X-ORIGINAL-URL:https://www.cseateacher.org
X-WR-CALDESC:Events for Colorado Springs Education Association
BEGIN:VTIMEZONE
TZID:America/Denver
BEGIN:DAYLIGHT
TZOFFSETFROM:-0700
TZOFFSETTO:-0600
TZNAME:MDT
DTSTART:20190310T090000
END:DAYLIGHT
BEGIN:STANDARD
TZOFFSETFROM:-0600
TZOFFSETTO:-0700
TZNAME:MST
DTSTART:20191103T080000
END:STANDARD
END:VTIMEZONE
BEGIN:VEVENT
DTSTART;TZID=America/Denver:20190212T164500
DTEND;TZID=America/Denver:20190212T184500
DTSTAMP:20260424T173302
CREATED:20180822T213443Z
LAST-MODIFIED:20180822T215120Z
UID:1259-1549989900-1549997100@www.cseateacher.org
SUMMARY:Association Representatives Meeting
DESCRIPTION:Association Representatives Meeting
URL:https://www.cseateacher.org/event/association-representatives-meeting-5/
END:VEVENT
END:VCALENDAR