BEGIN:VCALENDAR
VERSION:2.0
PRODID:-//Colorado Springs Education Association - ECPv5.16.3.1//NONSGML v1.0//EN
CALSCALE:GREGORIAN
METHOD:PUBLISH
X-WR-CALNAME:Colorado Springs Education Association
X-ORIGINAL-URL:https://www.cseateacher.org
X-WR-CALDESC:Events for Colorado Springs Education Association
BEGIN:VTIMEZONE
TZID:America/Denver
BEGIN:DAYLIGHT
TZOFFSETFROM:-0700
TZOFFSETTO:-0600
TZNAME:MDT
DTSTART:20200308T090000
END:DAYLIGHT
BEGIN:STANDARD
TZOFFSETFROM:-0600
TZOFFSETTO:-0700
TZNAME:MST
DTSTART:20201101T080000
END:STANDARD
END:VTIMEZONE
BEGIN:VEVENT
DTSTART;TZID=America/Denver:20200908T163000
DTEND;TZID=America/Denver:20200908T180000
DTSTAMP:20260422T173541
CREATED:20200702T200833Z
LAST-MODIFIED:20200819T171851Z
UID:2970-1599582600-1599588000@www.cseateacher.org
SUMMARY:Virtual Association Representative Meeting
DESCRIPTION:Virtual Association Representative Meeting
URL:https://www.cseateacher.org/event/association-representative-meeting/
LOCATION:Virtual
END:VEVENT
END:VCALENDAR